BEGIN:VCALENDAR
VERSION:2.0
PRODID:SFPL Web Calendar
BEGIN:VEVENT
UID:33598@sfpl.org
DTSTAMP:20211013T220000Z
DTSTART:20211013T220000Z
DTEND:20211013T221500Z
SUMMARY:Taller: Cómo hacer una pupusa 
DESCRIPTION:<p><span><span><span>Descubre la pupusa, un alimento básico salvadoreño, mientras tres miembros de una familia comparten su significado, sus recuerdos cocinando y muestran paso a paso su receta. Para niños y sus familias. &nbsp;</span></span></span></p>

<p><a href="https://youtu.be/10LGYxVUldQ"><strong>Sintonízate con YouTube.</strong></a></p>

<p><span><span><span>Daniella, pasante adolescente, participó en el programa de pasantías de verano Jóvenes Involucrados en Liderazgo en Bibliotecas (YELL) 2021 como miembro del equipo de Justicia Social y Arte. El grupo de Justicia Social y Arte se centró en el uso del arte para explorar creativamente el activismo, la justicia social y la historia.</span></span></span></p>

LOCATION:Virtual Library
CLASS:PUBLIC
TRANSP:TRANSPARENT
END:VEVENT
BEGIN:VALARM
TRIGGER:-PT1440M
ACTION:DISPLAY
DESCRIPTION:Event Reminder - Taller: Cómo hacer una pupusa 
END:VALARM
END:VCALENDAR