BEGIN:VCALENDAR
VERSION:2.0
PRODID:SFPL Web Calendar
BEGIN:VEVENT
UID:33604@sfpl.org
DTSTAMP:20211018T220000Z
DTSTART:20211018T220000Z
DTEND:20211018T221500Z
SUMMARY:Activity: Harms of Plastic Waste and How to Take Action
DESCRIPTION:<p>Learn about several native birds of San Francisco and the harms of plastic waste on our environment. Follow instructional videos on how to up-cycle items and turn them into bird feeders. For kids and their families.</p>

<p><a href="https://youtu.be/6ey_vZqhYYU"><strong>Watch on YouTube.</strong></a></p>

<p>Youth Engaged in Library Leadership's (YELL) STEM & Nature cohort used STEM to explore different aspects of the urban nature spaces in their community and connected them to topics like sustainability, community gardens and nature walks. They are passionate about keeping the environment as healthy as possible for future generations. They included a fun project to follow along while learning the impact of plastic waste.</p>
LOCATION:Virtual Library
CLASS:PUBLIC
TRANSP:TRANSPARENT
END:VEVENT
BEGIN:VALARM
TRIGGER:-PT1440M
ACTION:DISPLAY
DESCRIPTION:Event Reminder - Activity: Harms of Plastic Waste and How to Take Action
END:VALARM
END:VCALENDAR