BEGIN:VCALENDAR
VERSION:2.0
PRODID:SFPL Web Calendar
BEGIN:VEVENT
UID:33638@sfpl.org
DTSTAMP:20211117T020000Z
DTSTART:20211117T020000Z
DTEND:20211117T033000Z
SUMMARY:Film: Moving San Francisco
DESCRIPTION:<p>Visit the Library for a special screening of Jim Yager Media's new documentary, <em>Moving San Francisco</em>, that looks at the City&rsquo;s transit past and its future.</p>

<p>From its unique cable cars of the 19th century which conquered an impossible topography, to the groundbreaking effort to introduce a City-owned transit authority (the first in the nation), to the current wave of experimentation with ride-sharing companies, autonomous vehicles and car-free pedestrian zones, San Francisco offers some of the most compelling and surprising examples of the inextricable link between a city&rsquo;s transit and the lives of its inhabitants. Author/historian Gary Kamiya hosts this eye-opening documentary, <em>Moving San Francisco</em>, that reveals the stories that help connect the lessons of the past to the challenges we face today in every modern city.</p>

<p>Presented by the <a href="https://sfpl.org/locations/main-library/sf-history-center">San Francisco History Center</a> in partnership with <a href="https://jimyagermedia.com/">Jim Yager Media</a> and <a href="https://www.friendssfpl.org/">Friends of the San Francisco Public Library</a></p>

<p>Pre-registration is required via <a href="https://www.eventbrite.com/e/film-moving-san-francisco-tickets-187854005387?utm-campaign=social%2Cemail&utm-content=attendeeshare&utm-medium=discovery&utm-source=strongmail&utm-term=listing">Eventbrite</a></p>

<p>If you can't make the live event, please be sure to watch <em>Moving San Francisco</em> on <a href="https://www.kqed.org/tv/schedules/monthly?month=2021-11">KQED</a> on Nov. 22 at 9 p.m.</p>
LOCATION:Main Library - Koret Auditorium
CLASS:PUBLIC
TRANSP:TRANSPARENT
END:VEVENT
BEGIN:VALARM
TRIGGER:-PT1440M
ACTION:DISPLAY
DESCRIPTION:Event Reminder - Film: Moving San Francisco
END:VALARM
END:VCALENDAR