BEGIN:VCALENDAR
VERSION:2.0
PRODID:SFPL Web Calendar
BEGIN:VEVENT
UID:33771@sfpl.org
DTSTAMP:20211213T200000Z
DTSTART:20211213T200000Z
DTEND:20211213T213000Z
SUMMARY:Workshop: TBBC Writer's Salon
DESCRIPTION:<p>Bring a poem or story that you have written&mdash;or just love&mdash;to share with others. Each person has time to introduce and read what they bring, with discussion to follow. This virtual program is intended for the blind and visually impaired community.</p>

<p>&nbsp;</p>

<p>For more information or to register for this event, please call us at (415) 557-4253 or email us at TalkingBooks@sfpl.org.</p>
LOCATION:Virtual Library
CLASS:PUBLIC
TRANSP:TRANSPARENT
END:VEVENT
BEGIN:VALARM
TRIGGER:-PT1440M
ACTION:DISPLAY
DESCRIPTION:Event Reminder - Workshop: TBBC Writer's Salon
END:VALARM
END:VCALENDAR