BEGIN:VCALENDAR
VERSION:2.0
PRODID:SFPL Web Calendar
BEGIN:VEVENT
UID:34173@sfpl.org
DTSTAMP:20211208T003000Z
DTSTART:20211208T003000Z
DTEND:20211208T011500Z
SUMMARY:Workshop: Exquisite Corpse
DESCRIPTION:<p>Learn to make delightful handmade crafts and books from master book artists in a three-part series. For kids and their families.</p>

<p><a href="https://youtu.be/PBAM56yfovA"><strong>Watch on YouTube.</strong></a></p>

<p>This week's project: Exquisite Corpse</p>

<p>Materials & tools needed for this project:</p>

<ul>
	<li>pencil</li>
	<li>scissors</li>
	<li>ruler (inches)</li>
	<li>spoon (wooden or metal, or bone folder)</li>
	<li>stapler & staples (long arm or saddle or regular</li>
	<li>office stapler)</li>
	<li>5 sheets 6&rdquo; x 5 &frac34;&rdquo;</li>
	<li>1 piece of cardstock 6&rdquo; x 6&rdquo;</li>
	<li>black marker (i.e. Sharpie or other maker)</li>
</ul>

<p>Book Arts Roadshow was co-founded by Cheryl Ball & C.K. Itamura to provide Book Arts instruction and hands-on learning experiences for all ages in your own space. Attend one class or all three.</p>

<p><a href="https://www.bookartsroadshow.net/">Book Arts Roadshow - Website</a></p>
LOCATION:Virtual Library
CLASS:PUBLIC
TRANSP:TRANSPARENT
END:VEVENT
BEGIN:VALARM
TRIGGER:-PT1440M
ACTION:DISPLAY
DESCRIPTION:Event Reminder - Workshop: Exquisite Corpse
END:VALARM
END:VCALENDAR