BEGIN:VCALENDAR
VERSION:2.0
PRODID:SFPL Web Calendar
BEGIN:VEVENT
UID:34188@sfpl.org
DTSTAMP:20211210T210000Z
DTSTART:20211210T210000Z
DTEND:20211210T220000Z
SUMMARY:Tutorial: Google Photos
DESCRIPTION:<p>Learn to store and organize digital images with Google Photos. We demonstrate how to upload, make edits, create albums and share your photos all in one place.</p>
LOCATION:Virtual Library
CLASS:PUBLIC
TRANSP:TRANSPARENT
END:VEVENT
BEGIN:VALARM
TRIGGER:-PT1440M
ACTION:DISPLAY
DESCRIPTION:Event Reminder - Tutorial: Google Photos
END:VALARM
END:VCALENDAR