BEGIN:VCALENDAR
VERSION:2.0
PRODID:SFPL Web Calendar
BEGIN:VEVENT
UID:34202@sfpl.org
DTSTAMP:20211204T220000Z
DTSTART:20211204T220000Z
DTEND:20211204T233000Z
SUMMARY:Dialogue: Free Jazz / Black Power: Lewis Gordon, Ph.D. and Justin Desmangles
DESCRIPTION:<p>Lewis Gordon and Justin Desmangles discuss the creative relationship between the radical movement within Afro-American classical music known as Free Jazz and the parallel development of the Black Power movement in international politics.&nbsp;</p>

<p>&nbsp;</p>

<p><strong><a href="https://youtu.be/1D93Ux8kMHk">Watch on YouTube</a></strong>.</p>

<p>&nbsp;</p>

<p>Jazz, the most original and pervasively influential art form of the last hundred years, was created by African Americans. Within that art form emerged Free Jazz, its most controversial emanation. Controversial in part because Free Jazz has historically closely aligned itself with revolutionary struggle among Blacks internationally. Join us for what promises to be a vibrant, explosive discussion of aesthetics, philosophy and the practice of freedom.</p>

<p>&nbsp;</p>

<p><strong>Connect</strong></p>

<p><a href="https://philosophy.uconn.edu/person/lewis-gordon/"><u>Lewis Gordon - Website</u></a> | <a href="https://twitter.com/lewgord?lang=en"><u>Lewis Gordon - Twitter</u></a> | <a href="https://www.facebook.com/LewisGordonPhilosopher/"><u>Lewis Gordon - Facebook</u></a>&nbsp;</p>

<p><a href="http://www.beforecolumbusfoundation.com/"><u>Before Columbus Foundation - Website</u></a></p>

<p>&nbsp;</p>
LOCATION:Virtual Library
CLASS:PUBLIC
TRANSP:TRANSPARENT
END:VEVENT
BEGIN:VALARM
TRIGGER:-PT1440M
ACTION:DISPLAY
DESCRIPTION:Event Reminder - Dialogue: Free Jazz / Black Power: Lewis Gordon, Ph.D. and Justin Desmangles
END:VALARM
END:VCALENDAR