BEGIN:VCALENDAR
VERSION:2.0
PRODID:SFPL Web Calendar
BEGIN:VEVENT
UID:34238@sfpl.org
DTSTAMP:20211215T030000Z
DTSTART:20211215T030000Z
DTEND:20211215T040000Z
SUMMARY:Author: Mallory O'Meara, Girly Drinks: A World History of Women and Alcohol
DESCRIPTION:<p>Mallory O&rsquo;Meara joins us for a special event in celebration of her new book, <em>Girly Drinks</em>, a feminist history of women drinking through the ages. This event will be held off-site in the beautiful Champagne Room at the OASIS nightclub, in South of Market, San Francisco.&nbsp;</p>

<p>&nbsp;</p>

<p>With whip-smart insight and boundless curiosity, <em>Girly Drinks</em> unveils an entire untold history of the female distillers, drinkers and brewers who have played a vital role in the creation and consumption of alcohol, from ancient Sumerian beer goddess Ninkasi to iconic 1920s bartender Ada Coleman. Filling a crucial gap in culinary history, O&rsquo;Meara dismantles the long-standing patriarchal traditions at the heart of these very drinking cultures, in the hope that readers everywhere can look to each celebrated woman in this book&mdash;and proudly have what she&rsquo;s having.</p>

<p>&nbsp;</p>

<p>O&rsquo;Meara is an award winning and best-selling author. She lives with her two cats in the mountains near Los Angeles, where she is at work on her next nonfiction book. Bourbon is her drink of choice.</p>

<p>&nbsp;</p>

<p>Her first book, <a href="https://sfpl.bibliocommons.com/v2/record/S93C3661890"><em><u>The Lady From The Black Lagoon: Hollywood Monsters and the Lost Legacy of Milicent Patrick</u></em></a>, is a Los Angeles Times bestseller. It won the 2019 SCIBA Award for Biography, the Rondo 2019 Book of the Year and was nominated for the Hugo and Locus awards. <a href="https://sfpl.bibliocommons.com/v2/record/S93C4882956"><em><u>Girly Drinks: A World History of Women and Alcoh</u></em><u>ol</u></a>, a thorough, and thoroughly entertaining, history, is available now.</p>

<p>&nbsp;</p>

<p>Every week, O&rsquo;Meara hosts the literary podcast<a href="http://www.maximumfun.org/shows/reading-glasses"><u> </u><em><u>Reading Glasses</u></em></a> alongside filmmaker and writer Brea Grant. The show is hosted by Maximum Fun and focuses on book culture and reader life.</p>

<p><br />
&nbsp;</p>

<p>The OASIS is located at 298 11th St, San Francisco, CA 94103.</p>

<p>&nbsp;</p>

<p><strong>Connect&nbsp;</strong></p>

<p><a href="http://www.malloryomeara.com/">Mallory O&rsquo;Meara - Website</a> | <a href="https://twitter.com/malloryomeara">Mallory O&rsquo;Meara - Twitter</a> | <a href="http://instagram.com/malloryomeara">Mallory O&rsquo;Meara - Instagram</a></p>
LOCATION:Main Library
CLASS:PUBLIC
TRANSP:TRANSPARENT
END:VEVENT
BEGIN:VALARM
TRIGGER:-PT1440M
ACTION:DISPLAY
DESCRIPTION:Event Reminder - Author: Mallory O'Meara, Girly Drinks: A World History of Women and Alcohol
END:VALARM
END:VCALENDAR