BEGIN:VCALENDAR
VERSION:2.0
PRODID:SFPL Web Calendar
BEGIN:VEVENT
UID:34920@sfpl.org
DTSTAMP:20211209T003000Z
DTSTART:20211209T003000Z
DTEND:20211209T033000Z
SUMMARY:Performance: Big Steppin’ through 2021 with Stunnaman02
DESCRIPTION:<p>Musical artist <a href="https://www.instagram.com/stunnaman02/?hl=en">Stunnaman02</a> and <a href="https://www.kqed.org/author/ogpenn">Pendarvis Harshaw</a> explore the power of Bay Area hip hop and&nbsp;lifting while you climb. Following the conversation are performances by <em><a href="http://www.shyangmusic.com/">Shy&rsquo;An G</a>, <a href="https://linktr.ee/its_aft">AFT</a></em>.</p>

<p>&nbsp;</p>

<p>4:30&ndash;5:30 p.m. DJ Corvette&nbsp;</p>

<p>6:00&ndash;6:15 p.m. Conversation Pendarvis & Stunnaman02&nbsp;</p>

<p>6:20&ndash;7:30 p.m. Performances: Shy&rsquo;An&nbsp;G,&nbsp;AFT. Stunnaman02&nbsp;</p>
LOCATION:Main Library
CLASS:PUBLIC
TRANSP:TRANSPARENT
END:VEVENT
BEGIN:VALARM
TRIGGER:-PT1440M
ACTION:DISPLAY
DESCRIPTION:Event Reminder - Performance: Big Steppin’ through 2021 with Stunnaman02
END:VALARM
END:VCALENDAR