BEGIN:VCALENDAR
VERSION:2.0
PRODID:SFPL Web Calendar
BEGIN:VEVENT
UID:35420@sfpl.org
DTSTAMP:20211208T031500Z
DTSTART:20211208T031500Z
DTEND:20211208T044500Z
SUMMARY:Workshop: Young Urban Zen (YUZ)
DESCRIPTION:<p>Young Urban Zen (YUZ) is a group under the auspices of the San Francisco Zen Center, with a particular focus on those between 20 and 40. It meets online Tuesday evenings for meditation and discussion about Zen practice. People of all experience levels are welcome.&nbsp;</p>

<p>&nbsp;</p>

<p><strong><a href="https://bit.ly/37K6wTV"><u>Click here to access the meeting room</u></a>.</strong></p>

<p><strong>To receive the password, <a href="https://docs.google.com/forms/d/e/1FAIpQLScLwjS-gktVyh4wYA4SF6AEOdssWz-UgFUpzdIrbWysDB5K3Q/viewform?usp=sf_link"><u>click here to fill out a brief form</u></a>.&nbsp;You will receive the password on the confirmation page. Please join us at the usual time; log in five minutes before the meeting opens.</strong></p>

<p>&nbsp;</p>

<p>Those who have not meditated before may find it helpful to attend <a href="https://www.sfzc.org/practice-centers/city-center/zen-meditation-practice-city-center/beginners"><u>Zen Center's meditation instruction</u></a>, which is free and open to anyone on Saturday mornings, but it is not at all necessary before coming to Young Urban Zen.</p>

<p><br />
Beyond Tuesday nights, members of the group regularly meet for social activities, volunteering, book club study, outings and occasional retreats.</p>

<p>&nbsp;</p>

<p>Young Urban Zen offers an opportunity to build a meaningful community with people who care about practice and mindfulness.</p>

<p>&nbsp;</p>

<p>Connect&nbsp;</p>

<p><a href="https://www.sfzc.org/"><u>San Francisco Zen Center - Website</u></a> | <a href="https://www.instagram.com/sanfranciscozencenter/"><u>San Francisco Zen Center - Instagram</u></a> | <a href="https://www.facebook.com/zencenter/"><u>San Francisco Zen Center - Facebook</u></a></p>

<p>&nbsp;</p>

<p>&nbsp;</p>

<p>&nbsp;</p>
LOCATION:Virtual Library
CLASS:PUBLIC
TRANSP:TRANSPARENT
END:VEVENT
BEGIN:VALARM
TRIGGER:-PT1440M
ACTION:DISPLAY
DESCRIPTION:Event Reminder - Workshop: Young Urban Zen (YUZ)
END:VALARM
END:VCALENDAR