BEGIN:VCALENDAR
VERSION:2.0
PRODID:SFPL Web Calendar
BEGIN:VEVENT
UID:46575@sfpl.org
DTSTAMP:20230505T010000Z
DTSTART:20230505T010000Z
DTEND:20230505T023000Z
SUMMARY:Book Club: World Literature, Han Kang's "The Vegetarian"
DESCRIPTION:<p>We discuss <em><a href="https://sfpl.bibliocommons.com/v2/record/S93C3124000">The Vegetarian</a></em>, the best-selling novel by Korean author <a href="https://sfpl.bibliocommons.com/v2/search?query=Han%2C%20Kang%2C&searchType=author">Han Kang</a>.</p>

<p><a href="https://sfpl.bibliocommons.com/list/share/377327687_sfpl_johns/572513107_world_literature_book_club"><strong>World Literature Book Club reading list</strong></a></p>
LOCATION:Virtual Library
CLASS:PUBLIC
TRANSP:TRANSPARENT
END:VEVENT
BEGIN:VALARM
TRIGGER:-PT1440M
ACTION:DISPLAY
DESCRIPTION:Event Reminder - Book Club: World Literature, Han Kang's "The Vegetarian"
END:VALARM
END:VCALENDAR