BEGIN:VCALENDAR
VERSION:2.0
PRODID:SFPL Web Calendar
BEGIN:VEVENT
UID:50656@sfpl.org
DTSTAMP:20230520T180000Z
DTSTART:20230520T180000Z
DTEND:20230520T190000Z
SUMMARY:Book Club: Salt, Sugar, Fat
DESCRIPTION:<p>We discuss Michael Moss's <a href="https://sfpl.bibliocommons.com/v2/record/S93C2591141"><em>Salt, Sugar, Fat</em></a>,&nbsp;an expos&eacute; of the processed food industry and its link to the emerging obesity epidemic.</p>
LOCATION:Ortega - Ortega Meeting Room
CLASS:PUBLIC
TRANSP:TRANSPARENT
END:VEVENT
BEGIN:VALARM
TRIGGER:-PT1440M
ACTION:DISPLAY
DESCRIPTION:Event Reminder - Book Club: Salt, Sugar, Fat
END:VALARM
END:VCALENDAR