BEGIN:VCALENDAR
VERSION:2.0
PRODID:SFPL Web Calendar
BEGIN:VEVENT
UID:51159@sfpl.org
DTSTAMP:20230425T230000Z
DTSTART:20230425T230000Z
DTEND:20230426T003000Z
SUMMARY:Book Club: Vis Valley Readers, Octavia Butler's Kindred
DESCRIPTION:<p>We will discuss Octavia Butler&rsquo;s&nbsp;<a href="https://sfpl.bibliocommons.com/v2/record/S93C1051186"><em>Kindred</em></a><em>.&nbsp;</em>In this novel, Butler&nbsp;blends science fiction with historical fiction. The protagonist&nbsp;Dana, a young black writer living in Los Angeles in 1976, undertakes a series of unexpected and dangerous trips into the year 1819 to rescue Rufus, the young son of a Maryland slaveholder.</p>

<p>Copies of the book will be available for check out at the reference desk. Refreshments provided by Mission Blue Coffee.</p>
LOCATION:Visitacion Valley - Visitacion Valley Meeting Room
CLASS:PUBLIC
TRANSP:TRANSPARENT
END:VEVENT
BEGIN:VALARM
TRIGGER:-PT1440M
ACTION:DISPLAY
DESCRIPTION:Event Reminder - Book Club: Vis Valley Readers, Octavia Butler's Kindred
END:VALARM
END:VCALENDAR