BEGIN:VCALENDAR
VERSION:2.0
PRODID:SFPL Web Calendar
BEGIN:VEVENT
UID:51645@sfpl.org
DTSTAMP:20230222T030000Z
DTSTART:20230222T030000Z
DTEND:20230222T040000Z
SUMMARY:Presentation: Fighting for Survival, Fighting on Arrival
DESCRIPTION:<p>In the face of injustice, African Americans in the United States have continually resisted racial discrimination in several fields including the military. Join Golden Gate National Recreation Area Park Rangers Adrian, Cristina and Sherry as they explore the history of the Buffalo Soldiers in National Parks and their role in breaking down barriers for Black Americans.</p>

<p><a href="https://youtu.be/45xJGXSJSrQ"><strong>Watch on YouTube.</strong></a></p>

<p><strong>Connect:</strong></p>

<p><a href="https://www.nps.gov/goga/index.htm"><u>Golden Gate National Recreation Area - Website</u></a></p>

<p><a href="https://www.instagram.com/goldengatenps/"><u>Golden Gate National Recreation Area - Instagram</u></a></p>

<p><a href="https://twitter.com/goldengatenps"><u>Golden Gate National Recreation Area - Twitter</u></a></p>

<p><a href="http://facebook.com/GoldenGateNPS"><u>Golden Gate National Recreation Area - Facebook</u></a></p>

<p><a href="https://www.youtube.com/user/GoldenGateNPS"><u>Golden Gate National Recreation Area - YouTube</u></a></p>

<p>&nbsp;</p>
LOCATION:Virtual Library
CLASS:PUBLIC
TRANSP:TRANSPARENT
END:VEVENT
BEGIN:VALARM
TRIGGER:-PT1440M
ACTION:DISPLAY
DESCRIPTION:Event Reminder - Presentation: Fighting for Survival, Fighting on Arrival
END:VALARM
END:VCALENDAR