BEGIN:VCALENDAR
VERSION:2.0
PRODID:SFPL Web Calendar
BEGIN:VEVENT
UID:51689@sfpl.org
DTSTAMP:20230423T220000Z
DTSTART:20230423T220000Z
DTEND:20230423T230000Z
SUMMARY:Workshop: Stamp Making
DESCRIPTION:<p>Making stamps is easy and fun, and adds a great personal touch to cards, tote bags or homemade gift wrap. &nbsp;</p>

<p>Space is limited. Reservation required: 415-355-5660</p>
LOCATION:Portola - Portola Meeting Room
CLASS:PUBLIC
TRANSP:TRANSPARENT
END:VEVENT
BEGIN:VALARM
TRIGGER:-PT1440M
ACTION:DISPLAY
DESCRIPTION:Event Reminder - Workshop: Stamp Making
END:VALARM
END:VCALENDAR