BEGIN:VCALENDAR
VERSION:2.0
PRODID:SFPL Web Calendar
BEGIN:VEVENT
UID:51802@sfpl.org
DTSTAMP:20230708T170000Z
DTSTART:20230708T170000Z
DTEND:20230708T210000Z
SUMMARY:Celebration: Mission Bay Library Open House
DESCRIPTION:<p>Come meet our staff and our community partners, browse our collection and enjoy views of Mission Creek.&nbsp;Watch our librarian perform storytime from 10:15 a.m.&ndash;10:45 a.m., participate in a yoga session 1:00 p.m.&ndash;2:00 p.m. and create your own&nbsp;button. The Museum of Craft and Design will lead an exhibition-related activity for all ages in the courtyard 11:00 a.m.&ndash;1:00 p.m.&nbsp;&nbsp;Esencia&nbsp;Latin Jazz Ensemble&nbsp;will be playing for you from 11:00 a.m.&ndash;12:00 p.m..</p>
LOCATION:Mission Bay - Mission Bay General Floor Area
CLASS:PUBLIC
TRANSP:TRANSPARENT
END:VEVENT
BEGIN:VALARM
TRIGGER:-PT1440M
ACTION:DISPLAY
DESCRIPTION:Event Reminder - Celebration: Mission Bay Library Open House
END:VALARM
END:VCALENDAR