BEGIN:VCALENDAR
VERSION:2.0
PRODID:SFPL Web Calendar
BEGIN:VEVENT
UID:51817@sfpl.org
DTSTAMP:20230504T190000Z
DTSTART:20230504T190000Z
DTEND:20230504T210000Z
SUMMARY:Film: American Graffiti
DESCRIPTION:<p>A group of teenagers in California's central valley spend one final night after their 1962 high school graduation cruising the strip with their buddies before they pursue their varying goals.</p>

<p>Director: George Lucas<br />
<br />
Stars: Richard Dreyfuss, Ron Howard, Paul Le Mat</p>

<p>Rated: PG, 110&nbsp;mins., 1973<br />
&nbsp;</p>
LOCATION:Main Library - Koret Auditorium
CLASS:PUBLIC
TRANSP:TRANSPARENT
END:VEVENT
BEGIN:VALARM
TRIGGER:-PT1440M
ACTION:DISPLAY
DESCRIPTION:Event Reminder - Film: American Graffiti
END:VALARM
END:VCALENDAR