BEGIN:VCALENDAR
VERSION:2.0
PRODID:SFPL Web Calendar
BEGIN:VEVENT
UID:51849@sfpl.org
DTSTAMP:20231221T200000Z
DTSTART:20231221T200000Z
DTEND:20231221T220000Z
SUMMARY:Film: Elf
DESCRIPTION:<p>Raised as an oversized elf, Buddy travels from the North Pole to New York City to meet his biological father,&nbsp;who doesn't know he exists and is in desperate need of some Christmas spirit.</p>

<p>Director: Jon Favreau</p>

<p>Stars: Will Ferrel, lJames Caan, Bob Newhart</p>

<p>Rated: PG, 97&nbsp;mins. 2003.&nbsp;Closed captions (CC) in English.</p>
LOCATION:Main Library - Latino/Hispanic Meeting Room A
CLASS:PUBLIC
TRANSP:TRANSPARENT
END:VEVENT
BEGIN:VALARM
TRIGGER:-PT1440M
ACTION:DISPLAY
DESCRIPTION:Event Reminder - Film: Elf
END:VALARM
END:VCALENDAR