BEGIN:VCALENDAR
VERSION:2.0
PRODID:SFPL Web Calendar
BEGIN:VEVENT
UID:51850@sfpl.org
DTSTAMP:20231228T200000Z
DTSTART:20231228T200000Z
DTEND:20231228T220000Z
SUMMARY:Film: A Chistmas Carol
DESCRIPTION:<p>An animated retelling of Charles Dickens' classic novel about a Victorian-era miser taken on a journey of self-redemption, courtesy of several mysterious Christmas apparitions.</p>

<p>Director: Robert Zemeckis<br />
Stars: Jim Carrey, Gary Oldman, Colin Firth</p>

<p>Rated: PG, 96&nbsp;mins., 2009.&nbsp;Closed captions (CC) in English.</p>
LOCATION:Main Library - Latino/Hispanic Meeting Room A
CLASS:PUBLIC
TRANSP:TRANSPARENT
END:VEVENT
BEGIN:VALARM
TRIGGER:-PT1440M
ACTION:DISPLAY
DESCRIPTION:Event Reminder - Film: A Chistmas Carol
END:VALARM
END:VCALENDAR