BEGIN:VCALENDAR
VERSION:2.0
PRODID:SFPL Web Calendar
BEGIN:VEVENT
UID:52030@sfpl.org
DTSTAMP:20230425T230000Z
DTSTART:20230425T230000Z
DTEND:20230426T000000Z
SUMMARY:Presentation: Introduction to Smart Investing
DESCRIPTION:<p>An introduction to investing in the stock and bond markets, how to create an overall investment plan that suits you, options for implementing your plan and good reminders for managing investments over time.&nbsp;</p>

<p>&nbsp;</p>
LOCATION:Virtual Library
CLASS:PUBLIC
TRANSP:TRANSPARENT
END:VEVENT
BEGIN:VALARM
TRIGGER:-PT1440M
ACTION:DISPLAY
DESCRIPTION:Event Reminder - Presentation: Introduction to Smart Investing
END:VALARM
END:VCALENDAR