BEGIN:VCALENDAR
VERSION:2.0
PRODID:SFPL Web Calendar
BEGIN:VEVENT
UID:52365@sfpl.org
DTSTAMP:20230315T003000Z
DTSTART:20230315T003000Z
DTEND:20230315T023000Z
SUMMARY:Film: Fast Color
DESCRIPTION:<p>A&nbsp;woman reconnects with her mother as she learns to control her superhuman abilities.</p>

<p>PG-13, 100 min., 2019.<br />
&nbsp;</p>
LOCATION:Potrero - Potrero Meeting Room
CLASS:PUBLIC
TRANSP:TRANSPARENT
END:VEVENT
BEGIN:VALARM
TRIGGER:-PT1440M
ACTION:DISPLAY
DESCRIPTION:Event Reminder - Film: Fast Color
END:VALARM
END:VCALENDAR