BEGIN:VCALENDAR
VERSION:2.0
PRODID:SFPL Web Calendar
BEGIN:VEVENT
UID:53809@sfpl.org
DTSTAMP:20230423T223000Z
DTSTART:20230423T223000Z
DTEND:20230423T233000Z
SUMMARY:Book Club: Somewhere in Time historical fiction
DESCRIPTION:<p>If you enjoy some history in your fiction, spend an hour hashing out the details of&mdash;and the history behind&mdash;this month&rsquo;s selection, Yenta Mash's&nbsp;<a href="https://sfpl.bibliocommons.com/v2/record/S93C3626116"><em><u>On the Landing: Stories</u></em></a>. Recently translated from Yiddish to English, this collection crosses continents and intersects with&nbsp;upheavals,&nbsp;regime changes and the phases of a woman's life.&nbsp;</p>

<p><strong>This is a hybrid event. Registration is required for Zoom attendance. In-person attendance does not require registration.&nbsp;</strong></p>

<p>This meeting of Somewhere in Time is launching SFPL's participation in the&nbsp;<a href="https://www.yiddishbookcenter.org/">Yiddish Book Center&rsquo;s</a> &ldquo;Stories of Exile&rdquo; Reading Groups for Public Libraries,&nbsp;a reading and discussion program to engage teens and adults in thinking about experiences of displacement, migration, and diaspora. In this program, librarians organize reading groups to discuss three books of Yiddish literature in translation, and one book related to the experience of a community served by their library.&nbsp;The Yiddish Book Center&rsquo;s &ldquo;Stories of Exile&rdquo; Reading Groups for Public Libraries is made possible by a gift from Sharon Karmazin.</p>
LOCATION:Eureka Valley/Harvey Milk Memorial - Eureka Valley General Floor Area
CLASS:PUBLIC
TRANSP:TRANSPARENT
END:VEVENT
BEGIN:VALARM
TRIGGER:-PT1440M
ACTION:DISPLAY
DESCRIPTION:Event Reminder - Book Club: Somewhere in Time historical fiction
END:VALARM
END:VCALENDAR