BEGIN:VCALENDAR
VERSION:2.0
PRODID:SFPL Web Calendar
BEGIN:VEVENT
UID:53931@sfpl.org
DTSTAMP:20230521T223000Z
DTSTART:20230521T223000Z
DTEND:20230521T233000Z
SUMMARY:Book club: Mysteries at Milk Memorial
DESCRIPTION:<p>If you enjoy a good whodunit, spend an hour hashing out the details of this month&rsquo;s mystery novel, Sherry Thomas'&nbsp;<em><u>A Tempest at Sea</u></em>. Charlotte Holmes&rsquo;s brilliant mind and deductive skills are pulled into a dangerous investigation at sea in this&nbsp;newest mystery in the bestselling Lady Sherlock series.&nbsp;</p>

<p><strong>This is a hybrid event. Registration is required for Zoom attendance. In-person attendance does not require registration.</strong></p>
LOCATION:Eureka Valley/Harvey Milk Memorial - Eureka Valley General Floor Area
CLASS:PUBLIC
TRANSP:TRANSPARENT
END:VEVENT
BEGIN:VALARM
TRIGGER:-PT1440M
ACTION:DISPLAY
DESCRIPTION:Event Reminder - Book club: Mysteries at Milk Memorial
END:VALARM
END:VCALENDAR