BEGIN:VCALENDAR
VERSION:2.0
PRODID:SFPL Web Calendar
BEGIN:VEVENT
UID:54343@sfpl.org
DTSTAMP:20230427T003000Z
DTSTART:20230427T003000Z
DTEND:20230427T023000Z
SUMMARY:Film: Pandaemonium
DESCRIPTION:<p>A dramatization of the professional relationship and friendship between English Romantic poets Samuel Taylor Coleridge (1772&ndash;1834) and William Wordsworth. Cast includes Linus Roache, John Hannah and Samantha Morton (<em>The Whale, She Said</em>). Directed by Julien Temple, best known for several punk music related films such as <em>The Filth and the Fury</em> (2000), and for the sci-fi comedy <em>Earth Girls are Easy</em> (1988). Wildly historically inaccurate, but rewarding as a stylish celebration of freethinking &mdash; and for its visions of excess, including the Coleridge poem <a href="https://sfpl.bibliocommons.com/v2/search?custom_edit=false&query=%28contributor%3A%28coleridge%29+AND+anywhere%3A%28kubla+khan%29+%29+formatcode%3A%28BOOK_CD+OR+BK+OR+AB+OR+EBOOK+%29&searchType=bl&suppress=true"><em>Kubla Khan</em></a>. Not widely available on disc or movie streaming services.</p>

<p>"Literate and handsome." &mdash; The New York Times</p>

<p>PG-13, 119 min., 2000. Closed captions (CC) are not available for this film.</p>
LOCATION:Richmond/Senator Milton Marks - Richmond Meeting Room
CLASS:PUBLIC
TRANSP:TRANSPARENT
END:VEVENT
BEGIN:VALARM
TRIGGER:-PT1440M
ACTION:DISPLAY
DESCRIPTION:Event Reminder - Film: Pandaemonium
END:VALARM
END:VCALENDAR