BEGIN:VCALENDAR
VERSION:2.0
PRODID:SFPL Web Calendar
BEGIN:VEVENT
UID:55046@sfpl.org
DTSTAMP:20230430T210000Z
DTSTART:20230430T210000Z
DTEND:20230430T223000Z
SUMMARY:Speaker: Ghosts of the Golden Gate: Now and Then
DESCRIPTION:<p>The National Parklands of San Francisco and Marin are rich in cultural and natural history. This presentation matches beautiful and fascinating archival photographs of the Golden Gate National Recreation Area (GGNRA) with photos from today to tell the agricultural, conservationist, recreational&nbsp;and military stories of our region.&nbsp;"I am a volunteer photographer and docent with the GGNRA working on a project called, "<a href="https://www.nps.gov/goga/learn/photosmultimedia/nowandthen.htm">Ghosts of the Golden Gate: Now & Then</a>." Our project is to gather beautiful archival photographs from around the park, match them up with interesting photos from today, and add interpretive narration. Our purpose is to bring the historic continuity of the parklands alive for visitors and residents of the communities nearby."</p>

<p>Speaker:&nbsp;</p>

<p>Ted Barone recently retired after 30 years in public education, the last 13 as a middle high school principal. He received his Doctorate of Education from UC Berkeley, M.A. from SFSU, B.A. from UC Santa Cruz. His is a naturalist, photographer, hiker, and mountain biker.</p>
LOCATION:Bernal Heights - Bernal Heights Meeting Room
CLASS:PUBLIC
TRANSP:TRANSPARENT
END:VEVENT
BEGIN:VALARM
TRIGGER:-PT1440M
ACTION:DISPLAY
DESCRIPTION:Event Reminder - Speaker: Ghosts of the Golden Gate: Now and Then
END:VALARM
END:VCALENDAR