BEGIN:VCALENDAR
VERSION:2.0
PRODID:SFPL Web Calendar
BEGIN:VEVENT
UID:55267@sfpl.org
DTSTAMP:20230423T210000Z
DTSTART:20230423T210000Z
DTEND:20230423T223000Z
SUMMARY:Workshop: LEGO Motorcars
DESCRIPTION:<p>Build a motorized vehicle using our LEGO kits, then customize and play with it.&nbsp;For ages 5 and older.&nbsp;Space limited. Reservations required: (415) 355-5656.</p>
LOCATION:Park - Park Meeting Room
CLASS:PUBLIC
TRANSP:TRANSPARENT
END:VEVENT
BEGIN:VALARM
TRIGGER:-PT1440M
ACTION:DISPLAY
DESCRIPTION:Event Reminder - Workshop: LEGO Motorcars
END:VALARM
END:VCALENDAR