BEGIN:VCALENDAR
VERSION:2.0
PRODID:SFPL Web Calendar
BEGIN:VEVENT
UID:55547@sfpl.org
DTSTAMP:20230520T210000Z
DTSTART:20230520T210000Z
DTEND:20230520T230000Z
SUMMARY:Film: Moana
DESCRIPTION:<p>Young navigator Moana (voice of Auli'i Cravalho), the daughter of a Polynesian tribal chief, is chosen to find a precious artifact that could save her people. She teams with demigod Maui (Dwayne Johnson) to locate a legendary island, and together the pair explore fantastical lands and encounter incredible sea creatures in this animated adventure from Disney.</p>

<p>PG, 113 mins., 2016. Closed captions (CC) in English.</p>
LOCATION:Presidio - Presidio Meeting Room
CLASS:PUBLIC
TRANSP:TRANSPARENT
END:VEVENT
BEGIN:VALARM
TRIGGER:-PT1440M
ACTION:DISPLAY
DESCRIPTION:Event Reminder - Film: Moana
END:VALARM
END:VCALENDAR