BEGIN:VCALENDAR
VERSION:2.0
PRODID:SFPL Web Calendar
BEGIN:VEVENT
UID:55969@sfpl.org
DTSTAMP:20230504T230000Z
DTSTART:20230504T230000Z
DTEND:20230504T234500Z
SUMMARY:Workshop: Spaghetti and Marshmallow Towers
DESCRIPTION:<p>Construct a tower out of some unlikely&nbsp;materials. Whose will be the tallest?&nbsp;We'll also have LEGOs galore for building.&nbsp;For ages 6&ndash;8.</p>
LOCATION:North Beach - North Beach Library Community Room
CLASS:PUBLIC
TRANSP:TRANSPARENT
END:VEVENT
BEGIN:VALARM
TRIGGER:-PT1440M
ACTION:DISPLAY
DESCRIPTION:Event Reminder - Workshop: Spaghetti and Marshmallow Towers
END:VALARM
END:VCALENDAR