BEGIN:VCALENDAR
VERSION:2.0
PRODID:SFPL Web Calendar
BEGIN:VEVENT
UID:56731@sfpl.org
DTSTAMP:20230424T200000Z
DTSTART:20230424T200000Z
DTEND:20230424T211500Z
SUMMARY:Speaker: Professor Jorge E. Cuéllar on Water Issues in Central America
DESCRIPTION:<p>Join us for a conversation with Jorge&nbsp;Cu&eacute;llar, Assistant Professor of Latin American, Latino & Caribbean Studies at Dartmouth College, who will offer a virtual talk on water issues in contemporary Central America. This will be followed by a discussion with International Center librarian&nbsp;Xima&nbsp;Avalos&nbsp;and UC Berkeley's librarian for Caribbean, Latin American Studies and&nbsp;Latinx&nbsp;Collections, Dr.&nbsp;Liladhar&nbsp;R.&nbsp;Pendse.&nbsp;As a Central Americanist, Cu&eacute;llar&rsquo;s work addresses the politics, culture, and the history of the isthmus and its diasporas.</p>

<p><strong><a href="https://youtube.com/live/DsGH10eQfLQ?feature=share">Watch on YouTube.</a></strong></p>

<p>Connect:</p>

<p><a href="https://twitter.com/infrapolitics">Jorge Cu&eacute;llar - Twitter</a>&nbsp;</p>

<p>&nbsp;</p>
LOCATION:Virtual Library
CLASS:PUBLIC
TRANSP:TRANSPARENT
END:VEVENT
BEGIN:VALARM
TRIGGER:-PT1440M
ACTION:DISPLAY
DESCRIPTION:Event Reminder - Speaker: Professor Jorge E. Cuéllar on Water Issues in Central America
END:VALARM
END:VCALENDAR