BEGIN:VCALENDAR
VERSION:2.0
PRODID:SFPL Web Calendar
BEGIN:VEVENT
UID:57072@sfpl.org
DTSTAMP:20230426T230000Z
DTSTART:20230426T230000Z
DTEND:20230427T003000Z
SUMMARY:Workshop: Henna Art
DESCRIPTION:<p>Learn the history, preparation&nbsp;and traditions surrounding this unique cultural art, and receive a temporary henna tattoo by the artist, Renda Dabit of <a href="http://www.hennagarden.com">Henna Garden Events</a>.&nbsp;Participants receive their own henna cone to take home.</p>
LOCATION:Ortega - Ortega Meeting Room
CLASS:PUBLIC
TRANSP:TRANSPARENT
END:VEVENT
BEGIN:VALARM
TRIGGER:-PT1440M
ACTION:DISPLAY
DESCRIPTION:Event Reminder - Workshop: Henna Art
END:VALARM
END:VCALENDAR