BEGIN:VCALENDAR
VERSION:2.0
PRODID:SFPL Web Calendar
BEGIN:VEVENT
UID:57312@sfpl.org
DTSTAMP:20230504T233000Z
DTSTART:20230504T233000Z
DTEND:20230505T003000Z
SUMMARY:Workshop: Young Writers Group
DESCRIPTION:<p>Bring your imagination, and any friends who like writing.&nbsp;We'll provide paper, pencils, writing prompts, tea and snacks. If you prefer to write on a tablet or laptop, bring your own device.&nbsp; For ages 10&ndash;18.</p>
LOCATION:Glen Park - Glen Park Meeting Room
CLASS:PUBLIC
TRANSP:TRANSPARENT
END:VEVENT
BEGIN:VALARM
TRIGGER:-PT1440M
ACTION:DISPLAY
DESCRIPTION:Event Reminder - Workshop: Young Writers Group
END:VALARM
END:VCALENDAR