BEGIN:VCALENDAR
VERSION:2.0
PRODID:SFPL Web Calendar
BEGIN:VEVENT
UID:57372@sfpl.org
DTSTAMP:20230430T220000Z
DTSTART:20230430T220000Z
DTEND:20230430T230000Z
SUMMARY:Presentation: 350 San Francisco—SF's Climate Action Plan
DESCRIPTION:<p>Join Elena Engel of 350 San Francisco for a discussion of local climate issues&mdash;what do we need to do and how do we fund it? Q&A follows presentation.&nbsp;&nbsp;</p>

<p>350 San Francisco is a local group of <a href="http://350bayarea.org/">350 Bay Area​​​​​</a>,&nbsp;a grassroots climate movement in the Bay Area and beyond to eliminate carbon pollution and achieve a clean energy future with racial, economic and environmental justice.</p>
LOCATION:Eureka Valley/Harvey Milk Memorial - Eureka Valley General Floor Area
CLASS:PUBLIC
TRANSP:TRANSPARENT
END:VEVENT
BEGIN:VALARM
TRIGGER:-PT1440M
ACTION:DISPLAY
DESCRIPTION:Event Reminder - Presentation: 350 San Francisco—SF's Climate Action Plan
END:VALARM
END:VCALENDAR