BEGIN:VCALENDAR
VERSION:2.0
PRODID:SFPL Web Calendar
BEGIN:VEVENT
UID:57490@sfpl.org
DTSTAMP:20230425T220000Z
DTSTART:20230425T220000Z
DTEND:20230426T000000Z
SUMMARY:Activity:  Outdoor bean bag toss and book prizes
DESCRIPTION:<p>Enjoy some outdoor fun in a challenging game of bean bag toss and get a free new book to read.</p>

<p>There will be snacks.</p>

<p>For ages 13&ndash;18</p>
LOCATION:Richmond/Senator Milton Marks - Richmond Back Patio
CLASS:PUBLIC
TRANSP:TRANSPARENT
END:VEVENT
BEGIN:VALARM
TRIGGER:-PT1440M
ACTION:DISPLAY
DESCRIPTION:Event Reminder - Activity:  Outdoor bean bag toss and book prizes
END:VALARM
END:VCALENDAR