BEGIN:VCALENDAR
VERSION:2.0
PRODID:SFPL Web Calendar
BEGIN:VEVENT
UID:57523@sfpl.org
DTSTAMP:20230423T210000Z
DTSTART:20230423T210000Z
DTEND:20230423T220000Z
SUMMARY:Activity: DIY Clothing Repair
DESCRIPTION:<p>Hole in your sock? Shirt missing a button? Learn how to give your clothing more life by fixing it yourself! For ages 8&nbsp;and older.</p>
LOCATION:Merced - Merced General Floor Area
CLASS:PUBLIC
TRANSP:TRANSPARENT
END:VEVENT
BEGIN:VALARM
TRIGGER:-PT1440M
ACTION:DISPLAY
DESCRIPTION:Event Reminder - Activity: DIY Clothing Repair
END:VALARM
END:VCALENDAR