BEGIN:VCALENDAR
VERSION:2.0
PRODID:SFPL Web Calendar
BEGIN:VEVENT
UID:57554@sfpl.org
DTSTAMP:20230504T010000Z
DTSTART:20230504T010000Z
DTEND:20230504T023000Z
SUMMARY:Author: Chad L. Williams in conversation with Sarah Ladipo Manyika
DESCRIPTION:<p>Chad Williams shares the dramatic story of W. E. B. Du Bois's reckoning with the betrayal of Black soldiers during World War I &mdash; and a new understanding of one of the great twentieth-century writers.&nbsp;</p>

<p><strong>This is a hybrid event. Registration is required for Zoom attendance. In-person attendance does not require registration; seats available first come, first served.</strong></p>

<p><a href="https://www.youtube.com/watch?v=DOKzO5SACRw">Watch on YouTube</a>.</p>

<p>In<em> <a href="https://sfpl.bibliocommons.com/v2/record/S93C5662678">The Wounded World</a></em>, Williams offers the dramatic account of Du Bois&rsquo;s failed efforts to complete what would have been one of his most significant works. The surprising story of this unpublished book offers new insight into Du Bois&rsquo;s struggles to reckon with both the history and the troubling memory of the war, along with the broader meanings of race and democracy for Black people in the twentieth century.&nbsp;</p>

<p><a href="https://www.chadlwilliams.com/">Chad L. Williams </a>is the Samuel J. and Augusta Spector Professor of History and African and African American Studies at Brandeis University. He is the author of the award-winning book <a href="https://sfpl.bibliocommons.com/v2/record/S93C2705073"><em>Torchbearers of Democracy: African American Soldiers in the World War I Era </em></a>and the coeditor of <a href="https://sfpl.bibliocommons.com/v2/record/S93C3228712"><em>Charleston Syllabus: Readings on Race, Racism, and Racial Violence</em></a>. His writings and op-eds have appeared in <em>The Atlantic</em>, <em>The Washington Post</em>, <em>Time</em>, and <em>The Conversation</em>. He lives in Needham, Massachusetts. &nbsp;</p>

<p><a href="https://www.sarahladipomanyika.com/">Sarah Ladipo Manyika</a> is a writer of novels, short stories and essays translated into several languages. She is author of the best-selling novel <em><a href="https://sfpl.bibliocommons.com/v2/record/S93C2456261">In Dependence</a></em> (2009) and the multiple shortlisted novel, <em><a href="https://sfpl.bibliocommons.com/v2/record/S93C3390446">Like A Mule Bringing Ice Cream To The Sun </a></em>(2016). She&nbsp;has had work published in&nbsp;<em>Granta</em>, <em>The Guardian</em>, <em>The Washington Post</em> and <em>Transfuge</em> among others. Named one of the "100 Most Influential Africans&rdquo; by New African in 2022, Sarah has served on a number of non-profit Boards including as Board Director for the Museum of the African Diaspora, San Francisco, and as Board Chair for the women&rsquo;s writing residency, Hedgebrook. Sarah is a San Francisco Library Laureate, an Audie finalist, a Mary Carswell MacDowell fellow, and a fellow of the Royal Society of Arts. Her most recent book is <em><a href="https://sfpl.bibliocommons.com/v2/record/S93C5666839">Between Starshine and Clay: Conversations from the African Diaspora</a></em>.&nbsp;</p>

<p><a href="https://www.foliosf.com/corydoctorow">Book sale</a>&nbsp;and signing with&nbsp;<a href="https://www.foliosf.com/">Folio Books</a>&nbsp;</p>

<p>Connect:&nbsp;</p>

<p><a href="https://www.chadlwilliams.com/">Chad Williams - Website&nbsp;</a>| <a href="https://twitter.com/Dr_ChadWilliams">Chad Williams -&nbsp;Twitter&nbsp;</a>| <a href="https://www.instagram.com/prof.chadwilliams/">Chad Williams -&nbsp;Instagram</a></p>

<p><a href="https://www.sarahladipomanyika.com/">Sarah Ladipo Manyika - Website</a> | <a href="http://www.facebook.com/sarahladipomanyika">Sarah Ladipo Manyika Facebook&nbsp;</a></p>
LOCATION:Main Library - Koret Auditorium
CLASS:PUBLIC
TRANSP:TRANSPARENT
END:VEVENT
BEGIN:VALARM
TRIGGER:-PT1440M
ACTION:DISPLAY
DESCRIPTION:Event Reminder - Author: Chad L. Williams in conversation with Sarah Ladipo Manyika
END:VALARM
END:VCALENDAR