BEGIN:VCALENDAR
VERSION:2.0
PRODID:SFPL Web Calendar
BEGIN:VEVENT
UID:57570@sfpl.org
DTSTAMP:20230428T223000Z
DTSTART:20230428T223000Z
DTEND:20230429T000000Z
SUMMARY:Social: Teen ESL Club 青少年學英語會話
DESCRIPTION:<p>Learn English as a second language with others. Pre-registration is recommended. For Chinese speakers, ages 12&ndash;18.</p>

<p>與同儕練習, 以英文為第二語言的會話練習. 建議預先報名. 對象為講中文,十二至十八歲的青少年.</p>
LOCATION:Chinatown/Him Mark Lai - Chinatown Meeting Room
CLASS:PUBLIC
TRANSP:TRANSPARENT
END:VEVENT
BEGIN:VALARM
TRIGGER:-PT1440M
ACTION:DISPLAY
DESCRIPTION:Event Reminder - Social: Teen ESL Club 青少年學英語會話
END:VALARM
END:VCALENDAR