BEGIN:VCALENDAR
VERSION:2.0
PRODID:SFPL Web Calendar
BEGIN:VEVENT
UID:57748@sfpl.org
DTSTAMP:20230428T210000Z
DTSTART:20230428T210000Z
DTEND:20230428T223000Z
SUMMARY:Workshop: Book Art Bird Craft
DESCRIPTION:<p>We will use recycled books to make a folded-art hanging bird.</p>
LOCATION:Mission Bay - Mission Bay Program Room
CLASS:PUBLIC
TRANSP:TRANSPARENT
END:VEVENT
BEGIN:VALARM
TRIGGER:-PT1440M
ACTION:DISPLAY
DESCRIPTION:Event Reminder - Workshop: Book Art Bird Craft
END:VALARM
END:VCALENDAR