BEGIN:VCALENDAR
VERSION:2.0
PRODID:SFPL Web Calendar
BEGIN:VEVENT
UID:57817@sfpl.org
DTSTAMP:20230504T223000Z
DTSTART:20230504T223000Z
DTEND:20230504T233000Z
SUMMARY:Workshop: Library Rangers – Pollination
DESCRIPTION:<p>Learn about the many different pollinators around the bay and how they help power our planet with staff from the California State Parks Candlestick Point. We'll have an hour of fun as we read a story, do an activity, and make a craft.</p>

<p>For more information, contact the Candlestick Point team at <a href="mailto:candlestick@ports-ca.us">candlestick@ports-ca.us</a> or (415) 822-8033.</p>
LOCATION:Visitacion Valley - Visitacion Valley Meeting Room
CLASS:PUBLIC
TRANSP:TRANSPARENT
END:VEVENT
BEGIN:VALARM
TRIGGER:-PT1440M
ACTION:DISPLAY
DESCRIPTION:Event Reminder - Workshop: Library Rangers – Pollination
END:VALARM
END:VCALENDAR