BEGIN:VCALENDAR
VERSION:2.0
PRODID:SFPL Web Calendar
BEGIN:VEVENT
UID:57932@sfpl.org
DTSTAMP:20230524T000000Z
DTSTART:20230524T000000Z
DTEND:20230524T020000Z
SUMMARY:Film: Inherent Vice (2014)
DESCRIPTION:<p>You don&rsquo;t need to lament finishing a good book when there is a great film adaptation to look forward to. Join us for a monthly two-part series in which we supplement the traditional book club with a movie night.&nbsp;Book club on Sunday, in-person movie night the following&nbsp;Tuesday.</p>

<p>This month, we discuss Thomas Pynchon's&nbsp;<em><a href="https://sfpl.bibliocommons.com/v2/record/S93C2241236">Inherent Vice</a>,&nbsp;</em>followed by the&nbsp;<a href="https://sfpl.bibliocommons.com/v2/record/S93C2971314">2014 film adaptation</a>&nbsp;directed by Paul Thomas Anderson.</p>

<p>R,&nbsp;148&nbsp;min., 2014.&nbsp;Closed captions (CC) in English.</p>
LOCATION:North Beach - North Beach Library Community Room
CLASS:PUBLIC
TRANSP:TRANSPARENT
END:VEVENT
BEGIN:VALARM
TRIGGER:-PT1440M
ACTION:DISPLAY
DESCRIPTION:Event Reminder - Film: Inherent Vice (2014)
END:VALARM
END:VCALENDAR