BEGIN:VCALENDAR
VERSION:2.0
PRODID:SFPL Web Calendar
BEGIN:VEVENT
UID:58127@sfpl.org
DTSTAMP:20230506T200000Z
DTSTART:20230506T200000Z
DTEND:20230506T213000Z
SUMMARY:Presentation: Chinese American Genealogical Research
DESCRIPTION:<p>Learn how to conduct family history research of Chinese Americans and find your ancestors using the Library&rsquo;s resources and tools, census data, city directories and NARA records (e.g., case files, immigration and nationalization records). This class is ideal for students, genealogists and intermediate researchers.<br />
<br />
&nbsp;</p>
LOCATION:North Beach - North Beach Library Community Room
CLASS:PUBLIC
TRANSP:TRANSPARENT
END:VEVENT
BEGIN:VALARM
TRIGGER:-PT1440M
ACTION:DISPLAY
DESCRIPTION:Event Reminder - Presentation: Chinese American Genealogical Research
END:VALARM
END:VCALENDAR