BEGIN:VCALENDAR
VERSION:2.0
PRODID:SFPL Web Calendar
BEGIN:VEVENT
UID:58134@sfpl.org
DTSTAMP:20230505T014500Z
DTSTART:20230505T014500Z
DTEND:20230505T024500Z
SUMMARY:Book Club: For Boys, Christina Soontornvat's All Thirteen
DESCRIPTION:<p>Discuss Christina Soontornvat's <em><a href="https://sfpl.bibliocommons.com/v2/record/S93C4482021">All Thirteen: The Incredible Cave Rescue of the Thai Boys' Soccer Team</a></em>, a true story about flood waters and team work in Thailand. For boys ages 9&ndash;12 with a favorite adult.</p>

<p><a href="https://sfpl.bibliocommons.com/list/share/386267898_sfpl_westportallib/1218735348_sfpl_west_portal_boys_book_club_suggested_titles">SFPL West Portal Boys' Book Club Suggested Titles</a></p>
LOCATION:West Portal - West Portal Children's Area
CLASS:PUBLIC
TRANSP:TRANSPARENT
END:VEVENT
BEGIN:VALARM
TRIGGER:-PT1440M
ACTION:DISPLAY
DESCRIPTION:Event Reminder - Book Club: For Boys, Christina Soontornvat's All Thirteen
END:VALARM
END:VCALENDAR