BEGIN:VCALENDAR
VERSION:2.0
PRODID:SFPL Web Calendar
BEGIN:VEVENT
UID:58198@sfpl.org
DTSTAMP:20230524T230000Z
DTSTART:20230524T230000Z
DTEND:20230525T003000Z
SUMMARY:Activity: Origami Japanese Kimono
DESCRIPTION:<p>Make an origami Japanese Kimono.</p>

<p>Space limited. Reservations required: (415) 355-2808 (starting May 1).</p>
LOCATION:Sunset - Sunset Program Room
CLASS:PUBLIC
TRANSP:TRANSPARENT
END:VEVENT
BEGIN:VALARM
TRIGGER:-PT1440M
ACTION:DISPLAY
DESCRIPTION:Event Reminder - Activity: Origami Japanese Kimono
END:VALARM
END:VCALENDAR