BEGIN:VCALENDAR
VERSION:2.0
PRODID:SFPL Web Calendar
BEGIN:VEVENT
UID:58463@sfpl.org
DTSTAMP:20230513T203000Z
DTSTART:20230513T203000Z
DTEND:20230513T213000Z
SUMMARY:Presentation: AI and AI Robotics
DESCRIPTION:<p>A multimedia introduction to artificial intelligence (AI), including&nbsp; AI's applications in robotics.&nbsp;&nbsp;</p>

<p>This event is part of <a href="https://sfpl.org/locations/main-library/bridge-main-5th-floor/welcome-tech-week">SF Tech Week</a>.&nbsp;</p>

<p>Connect: SuperTech FT <a href="https://supertechft.org/">website</a>&nbsp;| <a href="https://www.linkedin.com/company/supertechft">LinkedIn</a></p>
LOCATION:Main Library - Latino/Hispanic Meeting Room A
CLASS:PUBLIC
TRANSP:TRANSPARENT
END:VEVENT
BEGIN:VALARM
TRIGGER:-PT1440M
ACTION:DISPLAY
DESCRIPTION:Event Reminder - Presentation: AI and AI Robotics
END:VALARM
END:VCALENDAR