BEGIN:VCALENDAR
VERSION:2.0
PRODID:SFPL Web Calendar
BEGIN:VEVENT
UID:58487@sfpl.org
DTSTAMP:20230504T230000Z
DTSTART:20230504T230000Z
DTEND:20230505T010000Z
SUMMARY:Activity: "May The 4th Be With You" buttons and crafts
DESCRIPTION:<p>Make your own button with Star Wars characters, classic and new.&nbsp;</p>

<p>Get adventurous and also make a Chewbacca,&nbsp;a mini Yoda, or anything Star Wars with pipe cleaners and other craft materials.</p>

<p>For ages 10&ndash;18.&nbsp;</p>

<p>Crea tu propio bot&oacute;n/pin con personajes de La guerra de las galaxias.</p>

<p>Atr&eacute;vete y haz tambi&eacute;n un Chewbacca, un mini Yoda o cualquier cosa de Star Wars con limpiapipas y otros materiales de manualidades.</p>

<p>Para edades de 10 a 18.</p>
LOCATION:Mission - Mission General Floor Area
CLASS:PUBLIC
TRANSP:TRANSPARENT
END:VEVENT
BEGIN:VALARM
TRIGGER:-PT1440M
ACTION:DISPLAY
DESCRIPTION:Event Reminder - Activity: "May The 4th Be With You" buttons and crafts
END:VALARM
END:VCALENDAR