BEGIN:VCALENDAR
VERSION:2.0
PRODID:SFPL Web Calendar
BEGIN:VEVENT
UID:58505@sfpl.org
DTSTAMP:20230520T200000Z
DTSTART:20230520T200000Z
DTEND:20230520T220000Z
SUMMARY:Activity: Korean Paper Hanbok
DESCRIPTION:<p>Learn to make paper Hanbok&nbsp;(traditional Korean clothing)&nbsp;with Hanji paper (Korean handmade paper).</p>

<p>Space limited. Reservations required: (415) 355-5615.</p>
LOCATION:Ocean View - Ocean View Meeting Room
CLASS:PUBLIC
TRANSP:TRANSPARENT
END:VEVENT
BEGIN:VALARM
TRIGGER:-PT1440M
ACTION:DISPLAY
DESCRIPTION:Event Reminder - Activity: Korean Paper Hanbok
END:VALARM
END:VCALENDAR