BEGIN:VCALENDAR
VERSION:2.0
PRODID:SFPL Web Calendar
BEGIN:VEVENT
UID:58539@sfpl.org
DTSTAMP:20230506T170000Z
DTSTART:20230506T170000Z
DTEND:20230506T230000Z
SUMMARY:Social: Noe Valley Branch Garden Tour
DESCRIPTION:<p>Explore our back patio&nbsp;and see how&nbsp;our volunteer gardeners make&nbsp;Noe Valley's garden thrive! Our gardeners are onsite to answer your&nbsp;questions.</p>
LOCATION:Noe Valley/Sally Brunn - Noe Valley Back Courtyard
CLASS:PUBLIC
TRANSP:TRANSPARENT
END:VEVENT
BEGIN:VALARM
TRIGGER:-PT1440M
ACTION:DISPLAY
DESCRIPTION:Event Reminder - Social: Noe Valley Branch Garden Tour
END:VALARM
END:VCALENDAR