BEGIN:VCALENDAR
VERSION:2.0
PRODID:SFPL Web Calendar
BEGIN:VEVENT
UID:58555@sfpl.org
DTSTAMP:20230729T210000Z
DTSTART:20230729T210000Z
DTEND:20230729T220000Z
SUMMARY:Activity: Bubbleology
DESCRIPTION:<p>Discover your inner scientist as we explore the world of bubbles. Bring objects you think might make good bubbles and see how science can be loads of fun! For children and their families.&nbsp;</p>
LOCATION:Noe Valley/Sally Brunn - Noe Valley Back Courtyard
CLASS:PUBLIC
TRANSP:TRANSPARENT
END:VEVENT
BEGIN:VALARM
TRIGGER:-PT1440M
ACTION:DISPLAY
DESCRIPTION:Event Reminder - Activity: Bubbleology
END:VALARM
END:VCALENDAR