BEGIN:VCALENDAR
VERSION:2.0
PRODID:SFPL Web Calendar
BEGIN:VEVENT
UID:58685@sfpl.org
DTSTAMP:20230506T200000Z
DTSTART:20230506T200000Z
DTEND:20230506T220000Z
SUMMARY:Activity: K-pop Photocard Decoden
DESCRIPTION:<p>Decorate your favorite K-pop Photocards with deco cream, stickers and charms. Selected Lomo&nbsp;cards will be available to begin your creativity. &nbsp;</p>

<p>Everyone is welcome to bring their own cell phone case or other beloved items to decorate with Deco cream and charms. &nbsp;</p>
LOCATION:West Portal - West Portal Children's Area
CLASS:PUBLIC
TRANSP:TRANSPARENT
END:VEVENT
BEGIN:VALARM
TRIGGER:-PT1440M
ACTION:DISPLAY
DESCRIPTION:Event Reminder - Activity: K-pop Photocard Decoden
END:VALARM
END:VCALENDAR