BEGIN:VCALENDAR
VERSION:2.0
PRODID:SFPL Web Calendar
BEGIN:VEVENT
UID:58737@sfpl.org
DTSTAMP:20230523T220000Z
DTSTART:20230523T220000Z
DTEND:20230524T000000Z
SUMMARY:Activity: Decoupage ceramic tiles
DESCRIPTION:<p>Decorate ceramic tiles with pictures cut from newspapers and magazines.&nbsp; Personalize your decoupage creations with paint, tissue and stickers.</p>

<p>Supplies limited, no registration needed.</p>

<p>For ages 13&mdash;18</p>
LOCATION:Richmond/Senator Milton Marks - Richmond Teen's Area
CLASS:PUBLIC
TRANSP:TRANSPARENT
END:VEVENT
BEGIN:VALARM
TRIGGER:-PT1440M
ACTION:DISPLAY
DESCRIPTION:Event Reminder - Activity: Decoupage ceramic tiles
END:VALARM
END:VCALENDAR