BEGIN:VCALENDAR
VERSION:2.0
PRODID:SFPL Web Calendar
BEGIN:VEVENT
UID:58748@sfpl.org
DTSTAMP:20230506T200000Z
DTSTART:20230506T200000Z
DTEND:20230506T220000Z
SUMMARY:Workshop: Crafts with Keriann
DESCRIPTION:<p>Learn about the Japanese art of Origami and make your own origami creations. Discover the Indonesian craft of Batik and make a batik inspired artwork. Ages 10&ndash;18.</p>
LOCATION:North Beach - North Beach General Floor Area
CLASS:PUBLIC
TRANSP:TRANSPARENT
END:VEVENT
BEGIN:VALARM
TRIGGER:-PT1440M
ACTION:DISPLAY
DESCRIPTION:Event Reminder - Workshop: Crafts with Keriann
END:VALARM
END:VCALENDAR